BEGIN:VCALENDAR
VERSION:2.0
PRODID:-//Plone.org//NONSGML plone.app.event//EN
X-WR-TIMEZONE:US/Central
BEGIN:VEVENT
SUMMARY:Coffee and Birds
DTSTART;TZID=US/Central;VALUE=DATE-TIME:20260314T083000
DTEND;TZID=US/Central;VALUE=DATE-TIME:20260314T093000
DTSTAMP;VALUE=DATE-TIME:20260420T003417Z
UID:a309612efeb0486b85911c8440468491
CREATED;VALUE=DATE-TIME:20260305T173220Z
DESCRIPTION:Join a Master Naturalist for a warm beverage before hitting th
 e trails.
LAST-MODIFIED;VALUE=DATE-TIME:20260306T220348Z
URL:https://tpwd.texas.gov/calendar/dinosaur-valley/coffee-and-birds
END:VEVENT
BEGIN:VTIMEZONE
TZID:US/Central
X-LIC-LOCATION:US/Central
BEGIN:DAYLIGHT
DTSTART;VALUE=DATE-TIME:20260308T030000
TZNAME:CDT
TZOFFSETFROM:-0600
TZOFFSETTO:-0500
END:DAYLIGHT
END:VTIMEZONE
END:VCALENDAR
