BEGIN:VCALENDAR
VERSION:2.0
PRODID:-//Plone.org//NONSGML plone.app.event//EN
X-WR-TIMEZONE:US/Central
BEGIN:VEVENT
SUMMARY:Birds of Eisenhower
DTSTART;TZID=US/Central;VALUE=DATE-TIME:20250524T160000
DTEND;TZID=US/Central;VALUE=DATE-TIME:20250524T163000
DTSTAMP;VALUE=DATE-TIME:20260420T144458Z
UID:5df6cc48c4ce4ffb809e8b55fe9c34d9
CONTACT:Haylea Jacobs\, (903) 465-1956\, haylea.jacobs@tpwd.texas.gov
CREATED;VALUE=DATE-TIME:20250226T201955Z
DESCRIPTION:Explore the avian wonders of Eisenhower State Park!
LAST-MODIFIED;VALUE=DATE-TIME:20250428T143006Z
URL:https://tpwd.texas.gov/calendar/eisenhower/birds-of-eisenhower
END:VEVENT
BEGIN:VTIMEZONE
TZID:US/Central
X-LIC-LOCATION:US/Central
BEGIN:DAYLIGHT
DTSTART;VALUE=DATE-TIME:20250309T030000
TZNAME:CDT
TZOFFSETFROM:-0600
TZOFFSETTO:-0500
END:DAYLIGHT
END:VTIMEZONE
END:VCALENDAR
