BEGIN:VCALENDAR
VERSION:2.0
PRODID:-//Plone.org//NONSGML plone.app.event//EN
X-WR-TIMEZONE:US/Central
BEGIN:VEVENT
SUMMARY:Dutch Oven Delights
DTSTART;TZID=US/Central;VALUE=DATE-TIME:20260418T150000
DTEND;TZID=US/Central;VALUE=DATE-TIME:20260418T160000
DTSTAMP;VALUE=DATE-TIME:20260420T082114Z
UID:e716283795e44124a18cf8671761af71
CONTACT:Haylea Jacobs\, (903) 465-1956\, haylea.jacobs@tpwd.texas.gov
CREATED;VALUE=DATE-TIME:20250227T172820Z
DESCRIPTION:Come watch a Dutch oven demonstration and try a treat!
LAST-MODIFIED;VALUE=DATE-TIME:20260321T195728Z
URL:https://tpwd.texas.gov/calendar/eisenhower/dutch-oven-delights-1
END:VEVENT
BEGIN:VTIMEZONE
TZID:US/Central
X-LIC-LOCATION:US/Central
BEGIN:DAYLIGHT
DTSTART;VALUE=DATE-TIME:20260308T030000
TZNAME:CDT
TZOFFSETFROM:-0600
TZOFFSETTO:-0500
END:DAYLIGHT
END:VTIMEZONE
END:VCALENDAR
