BEGIN:VCALENDAR
VERSION:2.0
PRODID:-//Plone.org//NONSGML plone.app.event//EN
X-WR-TIMEZONE:US/Central
BEGIN:VEVENT
SUMMARY:Create-a-Cryptid Skins and Skulls
DTSTART;TZID=US/Central;VALUE=DATE-TIME:20251101T153000
DTEND;TZID=US/Central;VALUE=DATE-TIME:20251101T163000
DTSTAMP;VALUE=DATE-TIME:20260420T114924Z
UID:e2ac9ae545c54e34b7a6934ac530f9ea
CONTACT:Hannah Pickens\, (830) 307-0059\, hannah.pickens@tpwd.texas.gov
CREATED;VALUE=DATE-TIME:20250831T215107Z
DESCRIPTION:Join us for this special Halloween event to learn about native
  animals and their features with Ranger Hannah\, then turn your imaginatio
 n on high and create your own Texas cryptid based on our critters!
LAST-MODIFIED;VALUE=DATE-TIME:20250831T222117Z
URL:https://tpwd.texas.gov/calendar/enchanted-rock/animal-programs/create-
 a-cryptid-skins-and-skulls/2025-11-01
END:VEVENT
BEGIN:VTIMEZONE
TZID:US/Central
X-LIC-LOCATION:US/Central
BEGIN:DAYLIGHT
DTSTART;VALUE=DATE-TIME:20250309T030000
TZNAME:CDT
TZOFFSETFROM:-0600
TZOFFSETTO:-0500
END:DAYLIGHT
END:VTIMEZONE
END:VCALENDAR
