BEGIN:VCALENDAR
VERSION:2.0
PRODID:-//Plone.org//NONSGML plone.app.event//EN
X-WR-TIMEZONE:US/Central
BEGIN:VEVENT
SUMMARY:Pink Moon Viewing Party
DTSTART;TZID=US/Central;VALUE=DATE-TIME:20260401T194500
DTEND;TZID=US/Central;VALUE=DATE-TIME:20260401T204500
DTSTAMP;VALUE=DATE-TIME:20260419T203712Z
UID:e736eb4a8f524fd39201f00da91b0d3d
CONTACT:Hannah Pickens\, (830) 307-0059\, hannah.pickens@tpwd.texas.gov
CREATED;VALUE=DATE-TIME:20250704T194021Z
DESCRIPTION:Bring your telescope or binoculars and join us for an evening 
 of moon viewing!
LAST-MODIFIED;VALUE=DATE-TIME:20260211T193739Z
URL:https://tpwd.texas.gov/calendar/enchanted-rock/astronomy-programs-incl
 uding-star-parties/corn-moon-viewing-party
END:VEVENT
BEGIN:VTIMEZONE
TZID:US/Central
X-LIC-LOCATION:US/Central
BEGIN:DAYLIGHT
DTSTART;VALUE=DATE-TIME:20260308T030000
TZNAME:CDT
TZOFFSETFROM:-0600
TZOFFSETTO:-0500
END:DAYLIGHT
END:VTIMEZONE
END:VCALENDAR
