BEGIN:VCALENDAR
VERSION:2.0
PRODID:-//Plone.org//NONSGML plone.app.event//EN
X-WR-TIMEZONE:US/Central
BEGIN:VEVENT
SUMMARY:Hydrate with a Ranger
DTSTART;TZID=US/Central;VALUE=DATE-TIME:20250516T120000
DTEND;TZID=US/Central;VALUE=DATE-TIME:20250516T130000
DTSTAMP;VALUE=DATE-TIME:20260420T181435Z
UID:dc231a0466f14074a4d5a68319d79897
RRULE:FREQ=WEEKLY;COUNT=7;BYDAY=FR
EXDATE;TZID=US/Central:20250523T000000,20250530T000000,20250606T000000,202
 50627T000000
CONTACT:Hannah Pickens\, (830) 307-0059\, hannah.pickens@tpwd.texas.gov
CREATED;VALUE=DATE-TIME:20250504T203510Z
DESCRIPTION:Water? Check. Map? Check. Electrolytes? We have you covered.
LAST-MODIFIED;VALUE=DATE-TIME:20250514T151600Z
URL:https://tpwd.texas.gov/calendar/enchanted-rock/beverages-with-a-ranger
 /hydrate-with-a-ranger
END:VEVENT
BEGIN:VTIMEZONE
TZID:US/Central
X-LIC-LOCATION:US/Central
BEGIN:DAYLIGHT
DTSTART;VALUE=DATE-TIME:20250309T030000
TZNAME:CDT
TZOFFSETFROM:-0600
TZOFFSETTO:-0500
END:DAYLIGHT
END:VTIMEZONE
END:VCALENDAR
