BEGIN:VCALENDAR
VERSION:2.0
PRODID:-//Plone.org//NONSGML plone.app.event//EN
X-WR-TIMEZONE:US/Central
BEGIN:VEVENT
SUMMARY:EarthScope Adventure at Enchanted Rock
DTSTART;TZID=US/Central;VALUE=DATE-TIME:20260628T090000
DTEND;TZID=US/Central;VALUE=DATE-TIME:20260628T103000
DTSTAMP;VALUE=DATE-TIME:20260419T180420Z
UID:085caf574a6e4ca08720958649e9bf5d
CONTACT:Hannah Pickens\, (830) 307-0059\, hannah.pickens@tpwd.texas.gov
CREATED;VALUE=DATE-TIME:20260107T165921Z
DESCRIPTION:Earth science at work inside Enchanted Rock SNA! Take a short 
 hike with us to examine and learn about our resident EarthScope station.
LAST-MODIFIED;VALUE=DATE-TIME:20260315T140327Z
URL:https://tpwd.texas.gov/calendar/enchanted-rock/geology-programs-daytim
 e/earthscope-adventure
END:VEVENT
BEGIN:VTIMEZONE
TZID:US/Central
X-LIC-LOCATION:US/Central
BEGIN:DAYLIGHT
DTSTART;VALUE=DATE-TIME:20260308T030000
TZNAME:CDT
TZOFFSETFROM:-0600
TZOFFSETTO:-0500
END:DAYLIGHT
END:VTIMEZONE
END:VCALENDAR
