BEGIN:VCALENDAR
VERSION:2.0
PRODID:-//Plone.org//NONSGML plone.app.event//EN
X-WR-TIMEZONE:US/Central
BEGIN:VEVENT
SUMMARY:Guided Summit Hike
DTSTART;TZID=US/Central;VALUE=DATE-TIME:20251220T100000
DTEND;TZID=US/Central;VALUE=DATE-TIME:20251220T113000
DTSTAMP;VALUE=DATE-TIME:20260420T171407Z
UID:dd3b2706810a4869b98c5258cfb4ea40
CONTACT:Hannah Pickens\, (830) 307-0059\, hannah.pickens@tpwd.texas.gov
CREATED;VALUE=DATE-TIME:20240830T195241Z
DESCRIPTION:HIKE CANCELLED\, 01/24/2026. Join a ranger or volunteer for a 
 morning hike on our most popular trail.
LAST-MODIFIED;VALUE=DATE-TIME:20260121T195949Z
URL:https://tpwd.texas.gov/calendar/enchanted-rock/guided-summit-hikes/gui
 ded-summit-hike-2/2025-12-20
END:VEVENT
BEGIN:VTIMEZONE
TZID:US/Central
X-LIC-LOCATION:US/Central
BEGIN:STANDARD
DTSTART;VALUE=DATE-TIME:20251102T010000
TZNAME:CST
TZOFFSETFROM:-0500
TZOFFSETTO:-0600
END:STANDARD
END:VTIMEZONE
END:VCALENDAR
