BEGIN:VCALENDAR
VERSION:2.0
PRODID:-//Plone.org//NONSGML plone.app.event//EN
X-WR-TIMEZONE:US/Central
BEGIN:VEVENT
SUMMARY:Guided Summit Hike
DTSTART;TZID=US/Central;VALUE=DATE-TIME:20260620T090000
DTEND;TZID=US/Central;VALUE=DATE-TIME:20260620T103000
DTSTAMP;VALUE=DATE-TIME:20260420T170146Z
UID:95df2e47ff1b4e7cbdc9f9b2019314fb
CONTACT:Hannah Pickens\, (830) 307-0059\, hannah.pickens@tpwd.texas.gov
CREATED;VALUE=DATE-TIME:20250614T211857Z
DESCRIPTION:Join a ranger or volunteer for a morning hike on our most popu
 lar trail.
LAST-MODIFIED;VALUE=DATE-TIME:20260329T144602Z
URL:https://tpwd.texas.gov/calendar/enchanted-rock/guided-summit-hikes/gui
 ded-summit-hike-3/2026-06-20
END:VEVENT
BEGIN:VTIMEZONE
TZID:US/Central
X-LIC-LOCATION:US/Central
BEGIN:DAYLIGHT
DTSTART;VALUE=DATE-TIME:20260308T030000
TZNAME:CDT
TZOFFSETFROM:-0600
TZOFFSETTO:-0500
END:DAYLIGHT
END:VTIMEZONE
END:VCALENDAR
