BEGIN:VCALENDAR
VERSION:2.0
PRODID:-//Plone.org//NONSGML plone.app.event//EN
X-WR-TIMEZONE:US/Central
BEGIN:VEVENT
SUMMARY:Public Meeting: Planning for Expanding Enchanted Rock SNA
DTSTART;TZID=US/Central;VALUE=DATE-TIME:20260121T180000
DTEND;TZID=US/Central;VALUE=DATE-TIME:20260121T200000
DTSTAMP;VALUE=DATE-TIME:20260420T081826Z
UID:c6e21ed69af2498a957aee3c405c3b1a
CONTACT:Maria Malone\, (512) 389-8305\, Maria.Malone@tpwd.texas.gov\, http
 s://tpwd.texas.gov/state-parks/enchanted-rock/development
CREATED;VALUE=DATE-TIME:20251218T175117Z
DESCRIPTION:Join us in Fredericksburg for our first night of public meetin
 gs for the expanded Enchanted Rock State Natural Area!
LAST-MODIFIED;VALUE=DATE-TIME:20251218T181350Z
URL:https://tpwd.texas.gov/calendar/enchanted-rock/meeting-for-expanding-e
 rock-1
END:VEVENT
BEGIN:VTIMEZONE
TZID:US/Central
X-LIC-LOCATION:US/Central
BEGIN:STANDARD
DTSTART;VALUE=DATE-TIME:20251102T010000
TZNAME:CST
TZOFFSETFROM:-0500
TZOFFSETTO:-0600
END:STANDARD
END:VTIMEZONE
END:VCALENDAR
