BEGIN:VCALENDAR
VERSION:2.0
PRODID:-//Plone.org//NONSGML plone.app.event//EN
X-WR-TIMEZONE:US/Central
BEGIN:VEVENT
SUMMARY:Flower Moon Wildflower Wander
DTSTART;TZID=US/Central;VALUE=DATE-TIME:20260501T090000
DTEND;TZID=US/Central;VALUE=DATE-TIME:20260501T100000
DTSTAMP;VALUE=DATE-TIME:20260419T222658Z
UID:2b165c12c7e14dab9fa805c6f07aef5c
CONTACT:Hannah Pickens\, (830) 307-0059\, hannah.pickens@tpwd.texas.gov
CREATED;VALUE=DATE-TIME:20260329T134153Z
DESCRIPTION:What's blooming at Enchanted Rock this spring? Take a stroll b
 y the creek with Ranger Hannah on the morning of the FLOWER MOON and find 
 out!
LAST-MODIFIED;VALUE=DATE-TIME:20260329T134158Z
URL:https://tpwd.texas.gov/calendar/enchanted-rock/plant-programs/flower-m
 oon-wildflower-wander
END:VEVENT
BEGIN:VTIMEZONE
TZID:US/Central
X-LIC-LOCATION:US/Central
BEGIN:DAYLIGHT
DTSTART;VALUE=DATE-TIME:20260308T030000
TZNAME:CDT
TZOFFSETFROM:-0600
TZOFFSETTO:-0500
END:DAYLIGHT
END:VTIMEZONE
END:VCALENDAR
