BEGIN:VCALENDAR
VERSION:2.0
PRODID:-//Plone.org//NONSGML plone.app.event//EN
X-WR-TIMEZONE:US/Central
BEGIN:VEVENT
SUMMARY:Safety is a Summit
DTSTART;TZID=US/Central;VALUE=DATE-TIME:20250719T140000
DTEND;TZID=US/Central;VALUE=DATE-TIME:20250719T150000
DTSTAMP;VALUE=DATE-TIME:20260420T081503Z
UID:18e1d949f5084007a3dc35e9e17d4703
CONTACT:Hannah Pickens\, (830) 307-0059\, hannah.pickens@tpwd.texas.gov
CREATED;VALUE=DATE-TIME:20250525T170037Z
DESCRIPTION:Stop by our heat and hiking safety table to learn about the be
 st ways to prepare for your outdoor adventures with a ranger!
LAST-MODIFIED;VALUE=DATE-TIME:20250704T194203Z
URL:https://tpwd.texas.gov/calendar/enchanted-rock/safety-is-a-summit/2025
 -07-19
END:VEVENT
BEGIN:VTIMEZONE
TZID:US/Central
X-LIC-LOCATION:US/Central
BEGIN:DAYLIGHT
DTSTART;VALUE=DATE-TIME:20250309T030000
TZNAME:CDT
TZOFFSETFROM:-0600
TZOFFSETTO:-0500
END:DAYLIGHT
END:VTIMEZONE
END:VCALENDAR
