BEGIN:VCALENDAR
VERSION:2.0
PRODID:-//Plone.org//NONSGML plone.app.event//EN
X-WR-TIMEZONE:US/Central
BEGIN:VEVENT
SUMMARY:Nature Walk with Santa
DTSTART;TZID=US/Central;VALUE=DATE-TIME:20241207T140000
DTEND;TZID=US/Central;VALUE=DATE-TIME:20241207T160000
DTSTAMP;VALUE=DATE-TIME:20260420T071329Z
UID:d6f4b6f3a5364803927d6a3ab864b2dd
RRULE:FREQ=WEEKLY;UNTIL=20231216T000000
CONTACT:Rebecca Reyes\, (956) 565-3919\, rebecca.reyes@tpwd.texas.gov
CREATED;VALUE=DATE-TIME:20151119T195139Z
DESCRIPTION:Join Santa and his favorite nature guide in a search for birds
 \, unusual plants\, butterflies\, lizards and other native critters.
LAST-MODIFIED;VALUE=DATE-TIME:20241129T202155Z
URL:https://tpwd.texas.gov/calendar/estero-llano-grande/night-hike-with-sa
 nta
END:VEVENT
BEGIN:VTIMEZONE
TZID:US/Central
X-LIC-LOCATION:US/Central
BEGIN:STANDARD
DTSTART;VALUE=DATE-TIME:20241103T010000
TZNAME:CST
TZOFFSETFROM:-0500
TZOFFSETTO:-0600
END:STANDARD
END:VTIMEZONE
END:VCALENDAR
