BEGIN:VCALENDAR
VERSION:2.0
PRODID:-//Plone.org//NONSGML plone.app.event//EN
X-WR-TIMEZONE:US/Central
BEGIN:VEVENT
SUMMARY:How WOOD you use it?
DTSTART;TZID=US/Central;VALUE=DATE-TIME:20250926T090000
DTEND;TZID=US/Central;VALUE=DATE-TIME:20250926T110000
DTSTAMP;VALUE=DATE-TIME:20260420T052822Z
UID:18526ec125d24c6b9502863890a52eb5
CONTACT:Arian Velazquez-Ornelas\, (432) 229-3613 x: 302\, arian.velazquez-
 ornelas@tpwd.texas.gov
CREATED;VALUE=DATE-TIME:20250829T173956Z
DESCRIPTION:Mesquite is one of the most common woody plants of the Big Ben
 d and has many uses. The Mesquite Bean is a highly utilized product of the
  tree and can be made into food.
LAST-MODIFIED;VALUE=DATE-TIME:20250829T174021Z
URL:https://tpwd.texas.gov/calendar/fort-leaton/how-wood-you-use-it
END:VEVENT
BEGIN:VTIMEZONE
TZID:US/Central
X-LIC-LOCATION:US/Central
BEGIN:DAYLIGHT
DTSTART;VALUE=DATE-TIME:20250309T030000
TZNAME:CDT
TZOFFSETFROM:-0600
TZOFFSETTO:-0500
END:DAYLIGHT
END:VTIMEZONE
END:VCALENDAR
