BEGIN:VCALENDAR
VERSION:2.0
PRODID:-//Plone.org//NONSGML plone.app.event//EN
X-WR-TIMEZONE:US/Central
BEGIN:VEVENT
SUMMARY:Kid Fish Event
DTSTART;TZID=US/Central;VALUE=DATE-TIME:20290210T090000
DTEND;TZID=US/Central;VALUE=DATE-TIME:20290210T170000
DTSTAMP;VALUE=DATE-TIME:20260420T191208Z
UID:7b0c2e2678754b31bbb463128317adc5
CONTACT:Fort Parker State Park\, (254) 562-5751\, FortParkerSP@tpwd.texas.
 gov
CREATED;VALUE=DATE-TIME:20221201T143449Z
DESCRIPTION:Fish for rainbow trout at Lake Springfield!
LAST-MODIFIED;VALUE=DATE-TIME:20260224T212136Z
URL:https://tpwd.texas.gov/calendar/fort-parker/kid-fish-1/2029-02-10
END:VEVENT
BEGIN:VTIMEZONE
TZID:US/Central
X-LIC-LOCATION:US/Central
BEGIN:STANDARD
DTSTART;VALUE=DATE-TIME:20281105T010000
TZNAME:CST
TZOFFSETFROM:-0500
TZOFFSETTO:-0600
END:STANDARD
END:VTIMEZONE
END:VCALENDAR
