BEGIN:VCALENDAR
VERSION:2.0
PRODID:-//Plone.org//NONSGML plone.app.event//EN
X-WR-TIMEZONE:US/Central
BEGIN:VEVENT
SUMMARY:Ramble with a Ranger
DTSTART;TZID=US/Central;VALUE=DATE-TIME:20241123T100000
DTEND;TZID=US/Central;VALUE=DATE-TIME:20241123T110000
DTSTAMP;VALUE=DATE-TIME:20260419T214948Z
UID:7535f5fa15ee4750a1d98ad1d51d579c
CONTACT:Leah  Turner\, (254) 562-5751\, leah.turner@tpwd.texas.gov
CREATED;VALUE=DATE-TIME:20241107T221624Z
DESCRIPTION:Learn about local flora and fauna on a leisurely ranger-led hi
 ke!
LAST-MODIFIED;VALUE=DATE-TIME:20241113T205036Z
URL:https://tpwd.texas.gov/calendar/fort-parker/ramble-with-a-ranger
END:VEVENT
BEGIN:VTIMEZONE
TZID:US/Central
X-LIC-LOCATION:US/Central
BEGIN:STANDARD
DTSTART;VALUE=DATE-TIME:20241103T010000
TZNAME:CST
TZOFFSETFROM:-0500
TZOFFSETTO:-0600
END:STANDARD
END:VTIMEZONE
END:VCALENDAR
