BEGIN:VCALENDAR
VERSION:2.0
PRODID:-//Plone.org//NONSGML plone.app.event//EN
X-WR-TIMEZONE:US/Central
BEGIN:VEVENT
SUMMARY:Valentines to Misunderstood Creatures
DTSTART;TZID=US/Central;VALUE=DATE-TIME:20250215T140000
DTEND;TZID=US/Central;VALUE=DATE-TIME:20250215T150000
DTSTAMP;VALUE=DATE-TIME:20260419T184257Z
UID:fd3a2f94f9b348b19cb48dc66a6799b0
CONTACT:Leah Turner\, (254) 562-5751\, leah.turner@tpwd.texas.gov
CREATED;VALUE=DATE-TIME:20250130T171645Z
DESCRIPTION:Learn about some of our most misunderstood creatures like vult
 ures\, skunks\, snakes\, spiders and more! Then craft a valentine for your
  fave!
LAST-MODIFIED;VALUE=DATE-TIME:20250130T212614Z
URL:https://tpwd.texas.gov/calendar/fort-parker/valentines-to-misunderstoo
 d-creatures
END:VEVENT
BEGIN:VTIMEZONE
TZID:US/Central
X-LIC-LOCATION:US/Central
BEGIN:STANDARD
DTSTART;VALUE=DATE-TIME:20241103T010000
TZNAME:CST
TZOFFSETFROM:-0500
TZOFFSETTO:-0600
END:STANDARD
END:VTIMEZONE
END:VCALENDAR
