BEGIN:VCALENDAR
VERSION:2.0
PRODID:-//Plone.org//NONSGML plone.app.event//EN
X-WR-TIMEZONE:US/Central
BEGIN:VEVENT
SUMMARY:Morning Glaze Walk
DTSTART;TZID=US/Central;VALUE=DATE-TIME:20250606T090000
DTEND;TZID=US/Central;VALUE=DATE-TIME:20250606T103000
DTSTAMP;VALUE=DATE-TIME:20260420T084536Z
UID:5343ba6b651f455cbcc95754a07f2167
CONTACT:Haley Richardson\, Haley.richardson@tpwd.texas.gov
CREATED;VALUE=DATE-TIME:20250502T192624Z
DESCRIPTION:Celebrate National Donut Day with Park Rangers!
LAST-MODIFIED;VALUE=DATE-TIME:20250502T192730Z
URL:https://tpwd.texas.gov/calendar/fort-richardson/morning-glaze-walk
END:VEVENT
BEGIN:VTIMEZONE
TZID:US/Central
X-LIC-LOCATION:US/Central
BEGIN:DAYLIGHT
DTSTART;VALUE=DATE-TIME:20250309T030000
TZNAME:CDT
TZOFFSETFROM:-0600
TZOFFSETTO:-0500
END:DAYLIGHT
END:VTIMEZONE
END:VCALENDAR
