BEGIN:VCALENDAR
VERSION:2.0
PRODID:-//Plone.org//NONSGML plone.app.event//EN
X-WR-TIMEZONE:US/Central
BEGIN:VEVENT
SUMMARY:Star Party
DTSTART;TZID=US/Central;VALUE=DATE-TIME:20251122T183000
DTEND;TZID=US/Central;VALUE=DATE-TIME:20251122T200000
DTSTAMP;VALUE=DATE-TIME:20260419T235519Z
UID:a65ea86913d3422f8e701da446e1f290
CONTACT:Haley Richardsonn\, Haley.richardson@tpwd.texas.gov
CREATED;VALUE=DATE-TIME:20250725T185625Z
DESCRIPTION:The stars are calling\, maybe your extraterrestrial friend is 
 too!
LAST-MODIFIED;VALUE=DATE-TIME:20250725T185822Z
URL:https://tpwd.texas.gov/calendar/fort-richardson/star-party-1
END:VEVENT
BEGIN:VTIMEZONE
TZID:US/Central
X-LIC-LOCATION:US/Central
BEGIN:STANDARD
DTSTART;VALUE=DATE-TIME:20251102T010000
TZNAME:CST
TZOFFSETFROM:-0500
TZOFFSETTO:-0600
END:STANDARD
END:VTIMEZONE
END:VCALENDAR
