BEGIN:VCALENDAR
VERSION:2.0
PRODID:-//Plone.org//NONSGML plone.app.event//EN
X-WR-TIMEZONE:US/Central
BEGIN:VEVENT
SUMMARY:Last Sunday Hike - Tom Mays
DTSTART;TZID=US/Central;VALUE=DATE-TIME:20260222T083000
DTEND;TZID=US/Central;VALUE=DATE-TIME:20260222T100000
DTSTAMP;VALUE=DATE-TIME:20260419T173928Z
UID:52fad387c0034f1182390ed338baa71f
CONTACT:Diana Moy\, (915) 444-9121\, Diana.Moy@tpwd.texas.gov
CREATED;VALUE=DATE-TIME:20211015T172309Z
DESCRIPTION:Join a park ranger on a guided hike through the Western foothi
 lls of the Franklin Mountains.
LAST-MODIFIED;VALUE=DATE-TIME:20260211T210123Z
URL:https://tpwd.texas.gov/calendar/franklin-mountains/last-sunday-tm
END:VEVENT
BEGIN:VTIMEZONE
TZID:US/Central
X-LIC-LOCATION:US/Central
BEGIN:STANDARD
DTSTART;VALUE=DATE-TIME:20251102T010000
TZNAME:CST
TZOFFSETFROM:-0500
TZOFFSETTO:-0600
END:STANDARD
END:VTIMEZONE
END:VCALENDAR
