BEGIN:VCALENDAR
VERSION:2.0
PRODID:-//Plone.org//NONSGML plone.app.event//EN
X-WR-TIMEZONE:US/Central
BEGIN:VEVENT
SUMMARY:Last Sunday Hike - Agave Loop
DTSTART;TZID=US/Central;VALUE=DATE-TIME:20260329T083000
DTEND;TZID=US/Central;VALUE=DATE-TIME:20260329T103000
DTSTAMP;VALUE=DATE-TIME:20260419T165307Z
UID:51cb1d31b9f04634a7310fdceb7df24a
CONTACT:Diana Moy\, (915) 444-9121\, Diana.Moy@tpwd.texas.gov
CREATED;VALUE=DATE-TIME:20211015T172309Z
DESCRIPTION:Join a park ranger on a guided hike through the Western foothi
 lls of the Franklin Mountains.
LAST-MODIFIED;VALUE=DATE-TIME:20260218T172124Z
URL:https://tpwd.texas.gov/calendar/franklin-mountains/last-sunday-us
END:VEVENT
BEGIN:VTIMEZONE
TZID:US/Central
X-LIC-LOCATION:US/Central
BEGIN:DAYLIGHT
DTSTART;VALUE=DATE-TIME:20260308T030000
TZNAME:CDT
TZOFFSETFROM:-0600
TZOFFSETTO:-0500
END:DAYLIGHT
END:VTIMEZONE
END:VCALENDAR
