BEGIN:VCALENDAR
VERSION:2.0
PRODID:-//Plone.org//NONSGML plone.app.event//EN
X-WR-TIMEZONE:US/Central
BEGIN:VEVENT
SUMMARY:National Estuaries Week: Bay Exploration🌊
DTSTART;TZID=US/Central;VALUE=DATE-TIME:20250920T100000
DTEND;TZID=US/Central;VALUE=DATE-TIME:20250920T113000
DTSTAMP;VALUE=DATE-TIME:20260420T174554Z
UID:4161330ef8674ac9826db0345c25c46b
CONTACT:Regina Lillibridge\, (409) 737-1222\, regina.lillibridge@tpwd.texa
 s.gov
CREATED;VALUE=DATE-TIME:20220628T211615Z
DESCRIPTION:Celebrate the wonders of Galveston Bay during National Estuari
 es Week!
LAST-MODIFIED;VALUE=DATE-TIME:20250828T191156Z
URL:https://tpwd.texas.gov/calendar/galveston-island/afternoon-bay-explora
 tion
END:VEVENT
BEGIN:VTIMEZONE
TZID:US/Central
X-LIC-LOCATION:US/Central
BEGIN:DAYLIGHT
DTSTART;VALUE=DATE-TIME:20250309T030000
TZNAME:CDT
TZOFFSETFROM:-0600
TZOFFSETTO:-0500
END:DAYLIGHT
END:VTIMEZONE
END:VCALENDAR
