BEGIN:VCALENDAR
VERSION:2.0
PRODID:-//Plone.org//NONSGML plone.app.event//EN
X-WR-TIMEZONE:US/Central
BEGIN:VEVENT
SUMMARY:Guided Turkey Hike
DTSTART;TZID=US/Central;VALUE=DATE-TIME:20251127T100000
DTEND;TZID=US/Central;VALUE=DATE-TIME:20251127T113000
DTSTAMP;VALUE=DATE-TIME:20260420T061746Z
UID:ad5adea29b5848f1914d03ef4c153f5f
CONTACT:Regina Lillibridge\, (409) 737-1222\, x226\, regina.lillibridge@tp
 wd.texas.gov
CREATED;VALUE=DATE-TIME:20231107T171214Z
DESCRIPTION:There has never been a Wild Turkey recorded in the park\, but 
 that won’t stop us from looking for one!
LAST-MODIFIED;VALUE=DATE-TIME:20250813T132320Z
URL:https://tpwd.texas.gov/calendar/galveston-island/guided-turkey-hike
END:VEVENT
BEGIN:VTIMEZONE
TZID:US/Central
X-LIC-LOCATION:US/Central
BEGIN:STANDARD
DTSTART;VALUE=DATE-TIME:20251102T010000
TZNAME:CST
TZOFFSETFROM:-0500
TZOFFSETTO:-0600
END:STANDARD
END:VTIMEZONE
END:VCALENDAR
