BEGIN:VCALENDAR
VERSION:2.0
PRODID:-//Plone.org//NONSGML plone.app.event//EN
X-WR-TIMEZONE:US/Central
BEGIN:VEVENT
SUMMARY:Night Hike🌙
DTSTART;TZID=US/Central;VALUE=DATE-TIME:20260515T203000
DTEND;TZID=US/Central;VALUE=DATE-TIME:20260515T213000
DTSTAMP;VALUE=DATE-TIME:20260420T055210Z
UID:1d7d54a9c2674b8483d66b180cc34c33
RRULE:FREQ=MONTHLY;UNTIL=20260930T000000;BYDAY=+3FR
RDATE;TZID=US/Central:20251219T000000
EXDATE;TZID=US/Central:20250529T000000,20250605T000000,20251220T000000
CONTACT:Regina Lillibridge\, (409) 737-1222\, regina.lillibridge@tpwd.texa
 s.gov
CREATED;VALUE=DATE-TIME:20221122T212706Z
DESCRIPTION:The night is full of surprises\, if you only know where to loo
 k.
LAST-MODIFIED;VALUE=DATE-TIME:20260319T214416Z
URL:https://tpwd.texas.gov/calendar/galveston-island/night-hike
END:VEVENT
BEGIN:VTIMEZONE
TZID:US/Central
X-LIC-LOCATION:US/Central
BEGIN:DAYLIGHT
DTSTART;VALUE=DATE-TIME:20260308T030000
TZNAME:CDT
TZOFFSETFROM:-0600
TZOFFSETTO:-0500
END:DAYLIGHT
END:VTIMEZONE
END:VCALENDAR
