BEGIN:VCALENDAR
VERSION:2.0
PRODID:-//Plone.org//NONSGML plone.app.event//EN
X-WR-TIMEZONE:US/Central
BEGIN:VEVENT
SUMMARY:Spring Migration Bird Walk
DTSTART;TZID=US/Central;VALUE=DATE-TIME:20260307T090000
DTEND;TZID=US/Central;VALUE=DATE-TIME:20260307T103000
DTSTAMP;VALUE=DATE-TIME:20260419T182551Z
UID:244423e4da4745128fd8330f1bfaf81f
RRULE:FREQ=WEEKLY;UNTIL=20260510T000000;BYDAY=SA
EXDATE;TZID=US/Central:20240622T000000,20250405T000000,20260314T000000,202
 60328T000000,20260411T000000,20260418T000000
CONTACT:Regina Lillibridge\, (409) 737-1222 ex.226\, regina.lillibridge@tp
 wd.texas.gov
CREATED;VALUE=DATE-TIME:20211130T140635Z
DESCRIPTION:Explore the wonderful world of birds with us!
LAST-MODIFIED;VALUE=DATE-TIME:20260319T161349Z
URL:https://tpwd.texas.gov/calendar/galveston-island/spring_bird_walk
END:VEVENT
BEGIN:VTIMEZONE
TZID:US/Central
X-LIC-LOCATION:US/Central
BEGIN:STANDARD
DTSTART;VALUE=DATE-TIME:20251102T010000
TZNAME:CST
TZOFFSETFROM:-0500
TZOFFSETTO:-0600
END:STANDARD
END:VTIMEZONE
END:VCALENDAR
