BEGIN:VCALENDAR
VERSION:2.0
PRODID:-//Plone.org//NONSGML plone.app.event//EN
X-WR-TIMEZONE:US/Central
BEGIN:VEVENT
SUMMARY:Halloween Night Hike
DTSTART;TZID=US/Central;VALUE=DATE-TIME:20251030T190000
DTEND;TZID=US/Central;VALUE=DATE-TIME:20251030T203000
DTSTAMP;VALUE=DATE-TIME:20260419T181647Z
UID:014e4dc56afb42189a58b998f6c31d12
CONTACT:Aaron O'Neal\, aaron.o'neal@tpwd.texas.gov
CREATED;VALUE=DATE-TIME:20181117T204330Z
DESCRIPTION:Join us for a hauntingly fun night hike through the eerie trai
 ls of Guadalupe River State Park!
LAST-MODIFIED;VALUE=DATE-TIME:20251017T171307Z
URL:https://tpwd.texas.gov/calendar/guadalupe-river/copy5_of_night-hike
END:VEVENT
BEGIN:VTIMEZONE
TZID:US/Central
X-LIC-LOCATION:US/Central
BEGIN:DAYLIGHT
DTSTART;VALUE=DATE-TIME:20250309T030000
TZNAME:CDT
TZOFFSETFROM:-0600
TZOFFSETTO:-0500
END:DAYLIGHT
END:VTIMEZONE
END:VCALENDAR
