BEGIN:VCALENDAR
VERSION:2.0
PRODID:-//Plone.org//NONSGML plone.app.event//EN
X-WR-TIMEZONE:US/Central
BEGIN:VEVENT
SUMMARY:"Big Sit!" at the Woodland Blind
DTSTART;TZID=US/Central;VALUE=DATE-TIME:20260509T090000
DTEND;TZID=US/Central;VALUE=DATE-TIME:20260509T140000
DTSTAMP;VALUE=DATE-TIME:20260420T172507Z
UID:42e6fa811c4f4d4fb10c7f28021fd253
CONTACT:Holly Platz\, holly.platz@tpwd.texas.gov
CREATED;VALUE=DATE-TIME:20190410T190831Z
DESCRIPTION:How many birds can YOU spot from within a 50-foot circle? Join
  us this Migratory Bird Day and find out!
LAST-MODIFIED;VALUE=DATE-TIME:20260331T164550Z
URL:https://tpwd.texas.gov/calendar/guadalupe-river/copy_of_great-texas-bi
 rding-classic-big-sit
END:VEVENT
BEGIN:VTIMEZONE
TZID:US/Central
X-LIC-LOCATION:US/Central
BEGIN:DAYLIGHT
DTSTART;VALUE=DATE-TIME:20260308T030000
TZNAME:CDT
TZOFFSETFROM:-0600
TZOFFSETTO:-0500
END:DAYLIGHT
END:VTIMEZONE
END:VCALENDAR
