BEGIN:VCALENDAR
VERSION:2.0
PRODID:-//Plone.org//NONSGML plone.app.event//EN
X-WR-TIMEZONE:US/Central
BEGIN:VEVENT
SUMMARY:Edible Plant Walk *Registration Required*
DTSTART;TZID=US/Central;VALUE=DATE-TIME:20250524T090000
DTEND;TZID=US/Central;VALUE=DATE-TIME:20250524T100000
DTSTAMP;VALUE=DATE-TIME:20260420T034319Z
UID:7f8f8704c63542729c0e75c8f7f261b8
CONTACT:Aaron O'Neal\, aaron.o'neal@tpwd.texas.gov
CREATED;VALUE=DATE-TIME:20230402T145817Z
DESCRIPTION:Join us to learn about different edible plants in our area!
LAST-MODIFIED;VALUE=DATE-TIME:20250426T205819Z
URL:https://tpwd.texas.gov/calendar/guadalupe-river/edible-plant-walk
END:VEVENT
BEGIN:VTIMEZONE
TZID:US/Central
X-LIC-LOCATION:US/Central
BEGIN:DAYLIGHT
DTSTART;VALUE=DATE-TIME:20250309T030000
TZNAME:CDT
TZOFFSETFROM:-0600
TZOFFSETTO:-0500
END:DAYLIGHT
END:VTIMEZONE
END:VCALENDAR
