BEGIN:VCALENDAR
VERSION:2.0
PRODID:-//Plone.org//NONSGML plone.app.event//EN
X-WR-TIMEZONE:US/Central
BEGIN:VEVENT
SUMMARY:Exploration Station: the Moon
DTSTART;TZID=US/Central;VALUE=DATE-TIME:20251004T183000
DTEND;TZID=US/Central;VALUE=DATE-TIME:20251004T191500
DTSTAMP;VALUE=DATE-TIME:20260419T214625Z
UID:3dab48ecde724ef5912095356f6daaea
CONTACT:Aaron O'Neal\, aaron.o'neal@tpwd.texas.gov
CREATED;VALUE=DATE-TIME:20240131T184034Z
DESCRIPTION:Come learn about the moon prior to the Star Party!
LAST-MODIFIED;VALUE=DATE-TIME:20250923T192911Z
URL:https://tpwd.texas.gov/calendar/guadalupe-river/exploration-station-th
 e-moon
END:VEVENT
BEGIN:VTIMEZONE
TZID:US/Central
X-LIC-LOCATION:US/Central
BEGIN:DAYLIGHT
DTSTART;VALUE=DATE-TIME:20250309T030000
TZNAME:CDT
TZOFFSETFROM:-0600
TZOFFSETTO:-0500
END:DAYLIGHT
END:VTIMEZONE
END:VCALENDAR
