BEGIN:VCALENDAR
VERSION:2.0
PRODID:-//Plone.org//NONSGML plone.app.event//EN
X-WR-TIMEZONE:US/Central
BEGIN:VEVENT
SUMMARY:Full Moon Night Hike *Registration Required*--CANCELLED
DTSTART;TZID=US/Central;VALUE=DATE-TIME:20250710T200000
DTEND;TZID=US/Central;VALUE=DATE-TIME:20250710T213000
DTSTAMP;VALUE=DATE-TIME:20260419T230602Z
UID:ee25496bde6e44d4bebc0c47bbd5b95c
CONTACT:Aaron O'Neal\, aaron.o'neal@tpwd.texas.gov
CREATED;VALUE=DATE-TIME:20250627T211807Z
DESCRIPTION:Join us for a night hike under July's full moon!
LAST-MODIFIED;VALUE=DATE-TIME:20250705T185859Z
URL:https://tpwd.texas.gov/calendar/guadalupe-river/full-moon-night-hike
END:VEVENT
BEGIN:VTIMEZONE
TZID:US/Central
X-LIC-LOCATION:US/Central
BEGIN:DAYLIGHT
DTSTART;VALUE=DATE-TIME:20250309T030000
TZNAME:CDT
TZOFFSETFROM:-0600
TZOFFSETTO:-0500
END:DAYLIGHT
END:VTIMEZONE
END:VCALENDAR
