BEGIN:VCALENDAR
VERSION:2.0
PRODID:-//Plone.org//NONSGML plone.app.event//EN
X-WR-TIMEZONE:US/Central
BEGIN:VEVENT
SUMMARY:Gyotaku (Japanese Fish Printing)
DTSTART;TZID=US/Central;VALUE=DATE-TIME:20250719T100000
DTEND;TZID=US/Central;VALUE=DATE-TIME:20250719T110000
DTSTAMP;VALUE=DATE-TIME:20260419T191215Z
UID:0c011da95bfb4806b5e5f35f43f167e4
CONTACT:Aaron O'Neal\, aaron.o'neal@tpwd.texas.gov
CREATED;VALUE=DATE-TIME:20190123T175354Z
DESCRIPTION:Learn about Gyotaku and make your own fish print to take home.
LAST-MODIFIED;VALUE=DATE-TIME:20250617T210340Z
URL:https://tpwd.texas.gov/calendar/guadalupe-river/japanese-fish-printing
END:VEVENT
BEGIN:VTIMEZONE
TZID:US/Central
X-LIC-LOCATION:US/Central
BEGIN:DAYLIGHT
DTSTART;VALUE=DATE-TIME:20250309T030000
TZNAME:CDT
TZOFFSETFROM:-0600
TZOFFSETTO:-0500
END:DAYLIGHT
END:VTIMEZONE
END:VCALENDAR
