BEGIN:VCALENDAR
VERSION:2.0
PRODID:-//Plone.org//NONSGML plone.app.event//EN
X-WR-TIMEZONE:US/Central
BEGIN:VEVENT
SUMMARY:Scenic Overlook Nature Walk
DTSTART;TZID=US/Central;VALUE=DATE-TIME:20260312T100000
DTEND;TZID=US/Central;VALUE=DATE-TIME:20260312T110000
DTSTAMP;VALUE=DATE-TIME:20260423T211100Z
UID:73b6a306d8604bb7b30e9aac30565b04
RRULE:FREQ=WEEKLY;COUNT=4;BYDAY=TH
RDATE;TZID=US/Central:20260319T000000,20260409T000000,20260416T000000
EXDATE;TZID=US/Central:20260326T000000,20260402T000000
CONTACT:Aaron O'Neal\, aaron.o'neal@tpwd.texas.gov
CREATED;VALUE=DATE-TIME:20230908T141755Z
DESCRIPTION:Join us for an easy nature walk with a beautiful view!
LAST-MODIFIED;VALUE=DATE-TIME:20260328T233134Z
URL:https://tpwd.texas.gov/calendar/guadalupe-river/scenic-overlook-nature
 -hike
END:VEVENT
BEGIN:VTIMEZONE
TZID:US/Central
X-LIC-LOCATION:US/Central
BEGIN:DAYLIGHT
DTSTART;VALUE=DATE-TIME:20260308T030000
TZNAME:CDT
TZOFFSETFROM:-0600
TZOFFSETTO:-0500
END:DAYLIGHT
END:VTIMEZONE
END:VCALENDAR
