BEGIN:VCALENDAR
VERSION:2.0
PRODID:-//Plone.org//NONSGML plone.app.event//EN
X-WR-TIMEZONE:US/Central
BEGIN:VEVENT
SUMMARY:Archery in the Park
DTSTART;TZID=US/Central;VALUE=DATE-TIME:20250322T130000
DTEND;TZID=US/Central;VALUE=DATE-TIME:20250322T150000
DTSTAMP;VALUE=DATE-TIME:20260419T204115Z
UID:cebb823b73974081bfe018c7cdf8d9ac
CONTACT:Katie Kirkpatrick\, (512) 234-1405\, katherine.kirkpatrick@tpwd.te
 xas.gov
CREATED;VALUE=DATE-TIME:20250319T173006Z
DESCRIPTION:Learn the basics of archery and practice your skills with a bo
 w and arrow!
LAST-MODIFIED;VALUE=DATE-TIME:20250319T174958Z
URL:https://tpwd.texas.gov/calendar/inks-lake/archery-in-the-park
END:VEVENT
BEGIN:VTIMEZONE
TZID:US/Central
X-LIC-LOCATION:US/Central
BEGIN:DAYLIGHT
DTSTART;VALUE=DATE-TIME:20250309T030000
TZNAME:CDT
TZOFFSETFROM:-0600
TZOFFSETTO:-0500
END:DAYLIGHT
END:VTIMEZONE
END:VCALENDAR
