BEGIN:VCALENDAR
VERSION:2.0
PRODID:-//Plone.org//NONSGML plone.app.event//EN
X-WR-TIMEZONE:US/Central
BEGIN:VEVENT
SUMMARY:Fishing 101
DTSTART;TZID=US/Central;VALUE=DATE-TIME:20240831T090000
DTEND;TZID=US/Central;VALUE=DATE-TIME:20240831T100000
DTSTAMP;VALUE=DATE-TIME:20260419T194836Z
UID:2529d7a0a0c249b8af68309aa144e471
CONTACT:Jamie Langham\, (830) 637-9327\, jamie.langham@tpwd.texas.gov
CREATED;VALUE=DATE-TIME:20221028T164037Z
DESCRIPTION:Join a park ranger or volunteer to learn how to cast a line!
LAST-MODIFIED;VALUE=DATE-TIME:20240730T152147Z
URL:https://tpwd.texas.gov/calendar/inks-lake/august-2024/copy_of_fishing-
 101
END:VEVENT
BEGIN:VTIMEZONE
TZID:US/Central
X-LIC-LOCATION:US/Central
BEGIN:DAYLIGHT
DTSTART;VALUE=DATE-TIME:20240310T030000
TZNAME:CDT
TZOFFSETFROM:-0600
TZOFFSETTO:-0500
END:DAYLIGHT
END:VTIMEZONE
END:VCALENDAR
