BEGIN:VCALENDAR
VERSION:2.0
PRODID:-//Plone.org//NONSGML plone.app.event//EN
X-WR-TIMEZONE:US/Central
BEGIN:VEVENT
SUMMARY:Binoculars 101
DTSTART;TZID=US/Central;VALUE=DATE-TIME:20250822T150000
DTEND;TZID=US/Central;VALUE=DATE-TIME:20250822T160000
DTSTAMP;VALUE=DATE-TIME:20260420T045612Z
UID:7807b017798944a59a0ab38338ff68e9
CONTACT:Andrew Berezin\, (830) 637-9327\, andrew.berezin@tpwd.texas.gov
CREATED;VALUE=DATE-TIME:20250727T202251Z
DESCRIPTION:Learn how to properly use binoculars to view wildlife and the 
 beautiful scenery of Inks Lake!
LAST-MODIFIED;VALUE=DATE-TIME:20250727T202255Z
URL:https://tpwd.texas.gov/calendar/inks-lake/fy-2025/august/binoculars-10
 1-1
END:VEVENT
BEGIN:VTIMEZONE
TZID:US/Central
X-LIC-LOCATION:US/Central
BEGIN:DAYLIGHT
DTSTART;VALUE=DATE-TIME:20250309T030000
TZNAME:CDT
TZOFFSETFROM:-0600
TZOFFSETTO:-0500
END:DAYLIGHT
END:VTIMEZONE
END:VCALENDAR
