BEGIN:VCALENDAR
VERSION:2.0
PRODID:-//Plone.org//NONSGML plone.app.event//EN
X-WR-TIMEZONE:US/Central
BEGIN:VEVENT
SUMMARY:Campfire Chat
DTSTART;TZID=US/Central;VALUE=DATE-TIME:20250816T190000
DTEND;TZID=US/Central;VALUE=DATE-TIME:20250816T200000
DTSTAMP;VALUE=DATE-TIME:20260419T190940Z
UID:803b07a4981045d58addfb90bda855f9
CONTACT:Andrew Berezin\, (830) 637-9327\, andrew.berezin@tpwd.texas.gov
CREATED;VALUE=DATE-TIME:20250727T201318Z
DESCRIPTION:Sit around the fire with rangers and volunteers for stories\, 
 science\, and snacks!
LAST-MODIFIED;VALUE=DATE-TIME:20250727T201425Z
URL:https://tpwd.texas.gov/calendar/inks-lake/fy-2025/august/campfire-chat
END:VEVENT
BEGIN:VTIMEZONE
TZID:US/Central
X-LIC-LOCATION:US/Central
BEGIN:DAYLIGHT
DTSTART;VALUE=DATE-TIME:20250309T030000
TZNAME:CDT
TZOFFSETFROM:-0600
TZOFFSETTO:-0500
END:DAYLIGHT
END:VTIMEZONE
END:VCALENDAR
