BEGIN:VCALENDAR
VERSION:2.0
PRODID:-//Plone.org//NONSGML plone.app.event//EN
X-WR-TIMEZONE:US/Central
BEGIN:VEVENT
SUMMARY:Birding  and Birdhouses
DTSTART;TZID=US/Central;VALUE=DATE-TIME:20241207T110000
DTEND;TZID=US/Central;VALUE=DATE-TIME:20241207T120000
DTSTAMP;VALUE=DATE-TIME:20260420T163507Z
UID:d7d7956827b246bfaf52feca4e47562a
CONTACT:friendsofinks@yahoo.com
CREATED;VALUE=DATE-TIME:20220121T214104Z
DESCRIPTION:Join a local expert to learn about our native birds and how to
  spot them using some of our binoculars\, then make your own birdhouse.
LAST-MODIFIED;VALUE=DATE-TIME:20241119T195052Z
URL:https://tpwd.texas.gov/calendar/inks-lake/fy-2025/december-2024/birdin
 g-101
END:VEVENT
BEGIN:VTIMEZONE
TZID:US/Central
X-LIC-LOCATION:US/Central
BEGIN:STANDARD
DTSTART;VALUE=DATE-TIME:20241103T010000
TZNAME:CST
TZOFFSETFROM:-0500
TZOFFSETTO:-0600
END:STANDARD
END:VTIMEZONE
END:VCALENDAR
