BEGIN:VCALENDAR
VERSION:2.0
PRODID:-//Plone.org//NONSGML plone.app.event//EN
X-WR-TIMEZONE:US/Central
BEGIN:VEVENT
SUMMARY:Make a Tree ID
DTSTART;TZID=US/Central;VALUE=DATE-TIME:20250518T110000
DTEND;TZID=US/Central;VALUE=DATE-TIME:20250518T120000
DTSTAMP;VALUE=DATE-TIME:20260419T231550Z
UID:fff7d54121ce4d6f805530aa1c7ec20c
CONTACT:Andrew Berezin\, (830) 637-9327\, andrew.berezin@tpwd.texas.gov
CREATED;VALUE=DATE-TIME:20250421T185839Z
DESCRIPTION:Learn about trees and make a simple tool to identify some of t
 he common trees in the park
LAST-MODIFIED;VALUE=DATE-TIME:20250421T221732Z
URL:https://tpwd.texas.gov/calendar/inks-lake/fy-2025/may-2025/make-a-tree
 -id
END:VEVENT
BEGIN:VTIMEZONE
TZID:US/Central
X-LIC-LOCATION:US/Central
BEGIN:DAYLIGHT
DTSTART;VALUE=DATE-TIME:20250309T030000
TZNAME:CDT
TZOFFSETFROM:-0600
TZOFFSETTO:-0500
END:DAYLIGHT
END:VTIMEZONE
END:VCALENDAR
