BEGIN:VCALENDAR
VERSION:2.0
PRODID:-//Plone.org//NONSGML plone.app.event//EN
X-WR-TIMEZONE:US/Central
BEGIN:VEVENT
SUMMARY:Make Mom a Gift
DTSTART;TZID=US/Central;VALUE=DATE-TIME:20250510T100000
DTEND;TZID=US/Central;VALUE=DATE-TIME:20250510T110000
DTSTAMP;VALUE=DATE-TIME:20260420T070224Z
UID:ef38f6c3b2da4698913295d02dd2efeb
CONTACT:Andrew Berezin\, (830) 637-9327\, andrew.berezin@tpwd.texas.gov
CREATED;VALUE=DATE-TIME:20250421T180010Z
DESCRIPTION:Celebrate Mom with a handmade gift!
LAST-MODIFIED;VALUE=DATE-TIME:20250428T163344Z
URL:https://tpwd.texas.gov/calendar/inks-lake/fy-2025/may-2025/make-mom-a-
 gift
END:VEVENT
BEGIN:VTIMEZONE
TZID:US/Central
X-LIC-LOCATION:US/Central
BEGIN:DAYLIGHT
DTSTART;VALUE=DATE-TIME:20250309T030000
TZNAME:CDT
TZOFFSETFROM:-0600
TZOFFSETTO:-0500
END:DAYLIGHT
END:VTIMEZONE
END:VCALENDAR
