BEGIN:VCALENDAR
VERSION:2.0
PRODID:-//Plone.org//NONSGML plone.app.event//EN
X-WR-TIMEZONE:US/Central
BEGIN:VEVENT
SUMMARY:4th Annual Fun For All
DTSTART;TZID=US/Central;VALUE=DATE-TIME:20260425T100000
DTEND;TZID=US/Central;VALUE=DATE-TIME:20260425T140000
DTSTAMP;VALUE=DATE-TIME:20260420T205307Z
UID:03ed51c7afa146d8b643bbe49f6f2c51
CONTACT:Andrew Berezin\, (830) 637-9327\, andrew.berezin@tpwd.texas.gov
CREATED;VALUE=DATE-TIME:20260122T214534Z
DESCRIPTION:Join us for a fun-filled and all-inclusive day with a variety 
 of accessible activities.
LAST-MODIFIED;VALUE=DATE-TIME:20260306T234654Z
URL:https://tpwd.texas.gov/calendar/inks-lake/fy-26/april/4th-annual-fun-f
 or-all
END:VEVENT
BEGIN:VTIMEZONE
TZID:US/Central
X-LIC-LOCATION:US/Central
BEGIN:DAYLIGHT
DTSTART;VALUE=DATE-TIME:20260308T030000
TZNAME:CDT
TZOFFSETFROM:-0600
TZOFFSETTO:-0500
END:DAYLIGHT
END:VTIMEZONE
END:VCALENDAR
