BEGIN:VCALENDAR
VERSION:2.0
PRODID:-//Plone.org//NONSGML plone.app.event//EN
X-WR-TIMEZONE:US/Central
BEGIN:VEVENT
SUMMARY:First Day Self-Guided Hike
DTSTART;TZID=US/Central;VALUE=DATE-TIME:20260101T120000
DTSTAMP;VALUE=DATE-TIME:20260420T125449Z
UID:7d77ec6ac4a54115afcb5019a86f1dd3
CONTACT:Andrew Berezin\, (830) 637-9327\, andrew.berezin@tpwd.texas.gov
CREATED;VALUE=DATE-TIME:20251103T200633Z
DESCRIPTION:Begin your New Year on a trail!
LAST-MODIFIED;VALUE=DATE-TIME:20251218T150105Z
URL:https://tpwd.texas.gov/calendar/inks-lake/fy-26/january/first-day-self
 -guided-hike
END:VEVENT
BEGIN:VTIMEZONE
TZID:US/Central
X-LIC-LOCATION:US/Central
BEGIN:STANDARD
DTSTART;VALUE=DATE-TIME:20251102T010000
TZNAME:CST
TZOFFSETFROM:-0500
TZOFFSETTO:-0600
END:STANDARD
END:VTIMEZONE
END:VCALENDAR
