BEGIN:VCALENDAR
VERSION:2.0
PRODID:-//Plone.org//NONSGML plone.app.event//EN
X-WR-TIMEZONE:US/Central
BEGIN:VEVENT
SUMMARY:Backyard Bass
DTSTART;TZID=US/Central;VALUE=DATE-TIME:20251025T100000
DTEND;TZID=US/Central;VALUE=DATE-TIME:20251025T120000
DTSTAMP;VALUE=DATE-TIME:20260420T200941Z
UID:05a96853d6134645a14b58aa5225062d
CONTACT:Andrew Berezin\, (830) 637-9327\, andrew.berezin@tpwd.texas.gov
CREATED;VALUE=DATE-TIME:20250927T203909Z
DESCRIPTION:Learn the fundamentals of fishing and perfect your cast with a
  game of Backyard Bass
LAST-MODIFIED;VALUE=DATE-TIME:20250927T203916Z
URL:https://tpwd.texas.gov/calendar/inks-lake/fy-26/october/backyard-bass
END:VEVENT
BEGIN:VTIMEZONE
TZID:US/Central
X-LIC-LOCATION:US/Central
BEGIN:DAYLIGHT
DTSTART;VALUE=DATE-TIME:20250309T030000
TZNAME:CDT
TZOFFSETFROM:-0600
TZOFFSETTO:-0500
END:DAYLIGHT
END:VTIMEZONE
END:VCALENDAR
