BEGIN:VCALENDAR
VERSION:2.0
PRODID:-//Plone.org//NONSGML plone.app.event//EN
X-WR-TIMEZONE:US/Central
BEGIN:VEVENT
SUMMARY:Bird Outing
DTSTART;TZID=US/Central;VALUE=DATE-TIME:20251108T080000
DTEND;TZID=US/Central;VALUE=DATE-TIME:20251108T100000
DTSTAMP;VALUE=DATE-TIME:20260419T185722Z
UID:6ac1e79fab9f412cb5ad447aa06b736d
CONTACT:Park HQ\, (940) 528-2211
CREATED;VALUE=DATE-TIME:20250905T151208Z
DESCRIPTION:Join the Texas Master Naturalists: Rolling Plains chapter to l
 ook for birds
LAST-MODIFIED;VALUE=DATE-TIME:20250905T151237Z
URL:https://tpwd.texas.gov/calendar/lake-arrowhead/bird-outing-9/2025-11-0
 8
END:VEVENT
BEGIN:VTIMEZONE
TZID:US/Central
X-LIC-LOCATION:US/Central
BEGIN:STANDARD
DTSTART;VALUE=DATE-TIME:20251102T010000
TZNAME:CST
TZOFFSETFROM:-0500
TZOFFSETTO:-0600
END:STANDARD
END:VTIMEZONE
END:VCALENDAR
