BEGIN:VCALENDAR
VERSION:2.0
PRODID:-//Plone.org//NONSGML plone.app.event//EN
X-WR-TIMEZONE:US/Central
BEGIN:VEVENT
SUMMARY:Christmas in the Park
DTSTART;TZID=US/Central;VALUE=DATE-TIME:20251206T180000
DTEND;TZID=US/Central;VALUE=DATE-TIME:20251206T210000
DTSTAMP;VALUE=DATE-TIME:20260420T094813Z
UID:d9cf1655bc9741fc9305c909820bd59b
CONTACT:Park HQ\, (940) 528-2211\, laura.clepper@tpwd.texas.gov
CREATED;VALUE=DATE-TIME:20250824T130159Z
DESCRIPTION:Join us for an evening of Christmas cheer
LAST-MODIFIED;VALUE=DATE-TIME:20250824T130207Z
URL:https://tpwd.texas.gov/calendar/lake-arrowhead/christmas-in-the-park-2
END:VEVENT
BEGIN:VTIMEZONE
TZID:US/Central
X-LIC-LOCATION:US/Central
BEGIN:STANDARD
DTSTART;VALUE=DATE-TIME:20251102T010000
TZNAME:CST
TZOFFSETFROM:-0500
TZOFFSETTO:-0600
END:STANDARD
END:VTIMEZONE
END:VCALENDAR
