BEGIN:VCALENDAR
VERSION:2.0
PRODID:-//Plone.org//NONSGML plone.app.event//EN
X-WR-TIMEZONE:US/Central
BEGIN:VEVENT
SUMMARY:Skins & Skulls
DTSTART;TZID=US/Central;VALUE=DATE-TIME:20241221T130000
DTEND;TZID=US/Central;VALUE=DATE-TIME:20241221T140000
DTSTAMP;VALUE=DATE-TIME:20260419T161430Z
UID:7018788ce4184d54b713ffa7ae2d8876
RRULE:FREQ=WEEKLY;COUNT=2;BYDAY=SA
CONTACT:Ranger L\, (940) 528-2211\, laura.clepper@tpwd.texas.gov
CREATED;VALUE=DATE-TIME:20241220T145317Z
DESCRIPTION:Learn about the wildlife that lives in the park
LAST-MODIFIED;VALUE=DATE-TIME:20241220T145335Z
URL:https://tpwd.texas.gov/calendar/lake-arrowhead/skins-skulls-16
END:VEVENT
BEGIN:VTIMEZONE
TZID:US/Central
X-LIC-LOCATION:US/Central
BEGIN:STANDARD
DTSTART;VALUE=DATE-TIME:20241103T010000
TZNAME:CST
TZOFFSETFROM:-0500
TZOFFSETTO:-0600
END:STANDARD
END:VTIMEZONE
END:VCALENDAR
