BEGIN:VCALENDAR
VERSION:2.0
PRODID:-//Plone.org//NONSGML plone.app.event//EN
X-WR-TIMEZONE:US/Central
BEGIN:VEVENT
SUMMARY:Skins & Skulls
DTSTART;TZID=US/Central;VALUE=DATE-TIME:20250308T130000
DTEND;TZID=US/Central;VALUE=DATE-TIME:20250308T140000
DTSTAMP;VALUE=DATE-TIME:20260419T171858Z
UID:b7c03f2269384ee3a6fdaa55363782b7
CONTACT:Ranger L\, (940) 528-2211\, laura.clepper@tpwd.texas.gov
CREATED;VALUE=DATE-TIME:20250303T154641Z
DESCRIPTION:Learn about the wildlife that lives in the park
LAST-MODIFIED;VALUE=DATE-TIME:20250303T154704Z
URL:https://tpwd.texas.gov/calendar/lake-arrowhead/skins-skulls-17
END:VEVENT
BEGIN:VTIMEZONE
TZID:US/Central
X-LIC-LOCATION:US/Central
BEGIN:STANDARD
DTSTART;VALUE=DATE-TIME:20241103T010000
TZNAME:CST
TZOFFSETFROM:-0500
TZOFFSETTO:-0600
END:STANDARD
END:VTIMEZONE
END:VCALENDAR
