BEGIN:VCALENDAR
VERSION:2.0
PRODID:-//Plone.org//NONSGML plone.app.event//EN
X-WR-TIMEZONE:US/Central
BEGIN:VEVENT
SUMMARY:Texas Pollinator Bioblitz: Moth Watch
DTSTART;TZID=US/Central;VALUE=DATE-TIME:20251011T200000
DTEND;TZID=US/Central;VALUE=DATE-TIME:20251011T220000
DTSTAMP;VALUE=DATE-TIME:20260419T211504Z
UID:e458f06667094376920dcb516a9ee457
CONTACT:Ranger L\, (940) 528-2211\, laura.clepper@tpwd.texas.gov
CREATED;VALUE=DATE-TIME:20250921T133431Z
DESCRIPTION:Help us count evening pollinators!
LAST-MODIFIED;VALUE=DATE-TIME:20250921T134018Z
URL:https://tpwd.texas.gov/calendar/lake-arrowhead/texas-pollinator-biobli
 tz-moth-watch-1
END:VEVENT
BEGIN:VTIMEZONE
TZID:US/Central
X-LIC-LOCATION:US/Central
BEGIN:DAYLIGHT
DTSTART;VALUE=DATE-TIME:20250309T030000
TZNAME:CDT
TZOFFSETFROM:-0600
TZOFFSETTO:-0500
END:DAYLIGHT
END:VTIMEZONE
END:VCALENDAR
