BEGIN:VCALENDAR
VERSION:2.0
PRODID:-//Plone.org//NONSGML plone.app.event//EN
X-WR-TIMEZONE:US/Central
BEGIN:VEVENT
SUMMARY:The Atlatl
DTSTART;TZID=US/Central;VALUE=DATE-TIME:20251122T090000
DTEND;TZID=US/Central;VALUE=DATE-TIME:20251122T100000
DTSTAMP;VALUE=DATE-TIME:20260419T210949Z
UID:7a5dcf83755d414ca8e62b49a61888bf
CONTACT:Ranger L\, (940) 528-2211\, laura.clepper@tpwd.texas.gov
CREATED;VALUE=DATE-TIME:20251102T151231Z
DESCRIPTION:Join a park ranger to learn about this ancient hunting tool
LAST-MODIFIED;VALUE=DATE-TIME:20251102T151238Z
URL:https://tpwd.texas.gov/calendar/lake-arrowhead/the-atlatl-19
END:VEVENT
BEGIN:VTIMEZONE
TZID:US/Central
X-LIC-LOCATION:US/Central
BEGIN:STANDARD
DTSTART;VALUE=DATE-TIME:20251102T010000
TZNAME:CST
TZOFFSETFROM:-0500
TZOFFSETTO:-0600
END:STANDARD
END:VTIMEZONE
END:VCALENDAR
