BEGIN:VCALENDAR
VERSION:2.0
PRODID:-//Plone.org//NONSGML plone.app.event//EN
X-WR-TIMEZONE:US/Central
BEGIN:VEVENT
SUMMARY:The Atlatl
DTSTART;TZID=US/Central;VALUE=DATE-TIME:20250309T130000
DTEND;TZID=US/Central;VALUE=DATE-TIME:20250309T140000
DTSTAMP;VALUE=DATE-TIME:20260419T154207Z
UID:1c75adea6dfd433fb8498e2626282ea3
CONTACT:Ranger L\, (940) 528-2211\, laura.clepper@tpwd.texas.gov
CREATED;VALUE=DATE-TIME:20250303T154143Z
DESCRIPTION:Join a park ranger to learn about this ancient hunting tool
LAST-MODIFIED;VALUE=DATE-TIME:20250303T154202Z
URL:https://tpwd.texas.gov/calendar/lake-arrowhead/the-atlatl-4
END:VEVENT
BEGIN:VTIMEZONE
TZID:US/Central
X-LIC-LOCATION:US/Central
BEGIN:DAYLIGHT
DTSTART;VALUE=DATE-TIME:20250309T030000
TZNAME:CDT
TZOFFSETFROM:-0600
TZOFFSETTO:-0500
END:DAYLIGHT
END:VTIMEZONE
END:VCALENDAR
