BEGIN:VCALENDAR
VERSION:2.0
PRODID:-//Plone.org//NONSGML plone.app.event//EN
X-WR-TIMEZONE:US/Central
BEGIN:VEVENT
SUMMARY:Pottery in the Park
DTSTART;TZID=US/Central;VALUE=DATE-TIME:20260313T140000
DTEND;TZID=US/Central;VALUE=DATE-TIME:20260313T150000
DTSTAMP;VALUE=DATE-TIME:20260420T181855Z
UID:f051b7f7938842f7ba17894d9d621109
RRULE:FREQ=WEEKLY;UNTIL=20260320T000000;BYDAY=FR
CONTACT:Christopher Lindley\, (903) 572-5531\, christopher.lindley@tpwd.te
 xas.gov
CREATED;VALUE=DATE-TIME:20260225T184832Z
DESCRIPTION:Join us as we learn about Caddoan pottery and make a pinch pot
 !
LAST-MODIFIED;VALUE=DATE-TIME:20260306T234238Z
URL:https://tpwd.texas.gov/calendar/lake-bob-sandlin/pottery-in-the-park
END:VEVENT
BEGIN:VTIMEZONE
TZID:US/Central
X-LIC-LOCATION:US/Central
BEGIN:DAYLIGHT
DTSTART;VALUE=DATE-TIME:20260308T030000
TZNAME:CDT
TZOFFSETFROM:-0600
TZOFFSETTO:-0500
END:DAYLIGHT
END:VTIMEZONE
END:VCALENDAR
